BEGIN:VCALENDAR
PRODID:-//eluceo/ical//2.0/EN
VERSION:2.0
CALSCALE:GREGORIAN
BEGIN:VEVENT
UID:event-749
DTSTAMP:20260424T141946Z
SUMMARY:Kantoorbezoek CMS
DESCRIPTION:Woensdag 6 mei zullen we afreizen naar CMS in Amsterdam. Er is
  ruimte voor 20 ouderejaars Sirii. Het kantoorbezoek zal om 14:30 uur
  aanvangen en rond 18:00 uur eindigen na de borrel! Het bezoek zal bes
 taan uit een presentatie over het kantoor\, een interactief inhoudelijk ge
 deelte en een borrel waar je op informele wijze kennis kunt maken met het
  kantoor! Meld je snel aan\, want dit bezoek telt ook mee voor de twee ver
 plichte kantoorbezoeken in het kader van de OJR-reis.  Het kantoorbezoek 
 staat in het teken van Banking and finance. We gaan in op herstructureri
 ng\, insolventie en transacties waarbij ook de rol van curatoren niet onbe
 sproken blijft.  De aanmeldingen openen op vrijdag 24 april om 12:00
  en sluiten op maandag 4 mei om 23:59 uur. Ben jij nieuwsgierig naar
  CMS? Meld je dan aan! Wees wel op tijd\, want er is maar plaats voor 20
  ouderejaars Sirii. De dresscode voor het kantoorbezoek is business casu
 al (geen spijkerbroek). Tot dan!
DTSTART:20260506T123000Z
DTEND:20260506T160000Z
END:VEVENT
BEGIN:VTIMEZONE
TZID:UTC
BEGIN:STANDARD
DTSTART:20260506T123000
TZNAME:UTC
TZOFFSETTO:+0000
TZOFFSETFROM:+0000
END:STANDARD
END:VTIMEZONE
END:VCALENDAR
