BEGIN:VCALENDAR
PRODID:-//eluceo/ical//2.0/EN
VERSION:2.0
CALSCALE:GREGORIAN
BEGIN:VEVENT
UID:event-748
DTSTAMP:20260424T141720Z
SUMMARY:Accie Sporttoernooi
DESCRIPTION:Lieve Sirii\, De strijd van het jaar zal losbarsten op 8 mei va
 n 13:30-17:30! Het is namelijk tijd voor het jaarlijkse Sporttoernooi waar
 in Sirii en Tilianen gezamenlijk strijden voor de ultieme prijs! Het gevec
 ht barst los bij Olympos\, op Science Park. De eigen bijdrage bedraagt ma
 ar €5\, inclusief drankje en hapje in de pauze. Er is rekening gehouden 
 met het honourscollege en het Ledenweekend\, dus je kunt gelukkig alles co
 mbineren! Aanmelden kan in je eentje of in een team van 2-3 personen van 2
 4 april 12:00 t/m 6 mei 15:00. Aanmelden in een team kan door een mailtje 
 te sturen naar accie@ulcsirius.nl\, en solo kan dit door je gewoon in de a
 pp in te schrijven. Zorg dat je hele team zich inschrijft! Een dag van tev
 oren hoor je je teamkleur\, dus leg alvast verschillende kleuren klaar. Me
 ld je aan en strijd voor de ultieme prijs! Liefs\, Accie XXI en Fortuna XI
 V
DTSTART:20260508T113000Z
DTEND:20260508T153000Z
END:VEVENT
BEGIN:VTIMEZONE
TZID:UTC
BEGIN:STANDARD
DTSTART:20260508T113000
TZNAME:UTC
TZOFFSETTO:+0000
TZOFFSETFROM:+0000
END:STANDARD
END:VTIMEZONE
END:VCALENDAR
