BEGIN:VCALENDAR
PRODID:-//eluceo/ical//2.0/EN
VERSION:2.0
CALSCALE:GREGORIAN
BEGIN:VEVENT
UID:event-747
DTSTAMP:20260422T145241Z
SUMMARY:GDC Voetbaltoernooi
DESCRIPTION:Lieve Sirii\, Heb je het Nederlands elftal weer op het nippertj
 e niet gehaald voor het WK? Wees dan niet getreurd want de GDC brengt he
 t WK naar Utrecht! Op het prachtig mooie voetbaltoernooi gaan de allerbest
 e teams van Sirius weer tegen elkaar strijden voor een prachtige prijs: de
  eeuwige roem en het kunnen doneren van de opbrengst aan het goede doel na
 ar keuze! We hebben ook rekening gehouden met spelers die iets minder lijk
 en op Erling Haaland of Vivianne Miedema. Je kan namelijk net als voorgaan
 de jaren weer power-ups kopen om bepaalde teams te steunen of juist te b
 elemmeren. Dit maakt het ook een heel leuk evenement om als toeschouwer bi
 j aanwezig te zijn en hier kan je je dus ook voor aanmelden!  Het voetbal
 toernooi zal plaatsvinden op 30 april van 15:00 tot 17:00 uur. Je kan je
  aanmelden vanaf 20 april 12:00 tot en met 26 april 23:59 uur. Je hebt d
 us nog meer dan genoeg tijd om een team bij elkaar te verzamelen en na te 
 denken over het goede doel waar jouw team voor wil gaan spelen. Je kan je 
 ook individueel aanmelden en dan zorgen wij ervoor dat je in een leuk team
  terecht komt. De kaartjes kosten €3\,50 voor Sirii (speler of toesc
 houwer) en je mag ook externen meenemen\, die tickets kosten €5\,-.
  Wij zien jullie allemaal graag 30 april bij Kampong voor dit spektakel gr
 oter dan het WK zelf! Tot dan! Liefs\, De GDC
DTSTART:20260430T130000Z
DTEND:20260430T150000Z
END:VEVENT
BEGIN:VTIMEZONE
TZID:UTC
BEGIN:STANDARD
DTSTART:20260430T130000
TZNAME:UTC
TZOFFSETTO:+0000
TZOFFSETFROM:+0000
END:STANDARD
END:VTIMEZONE
END:VCALENDAR
