BEGIN:VCALENDAR
PRODID:-//eluceo/ical//2.0/EN
VERSION:2.0
CALSCALE:GREGORIAN
BEGIN:VEVENT
UID:event-742
DTSTAMP:20260423T144536Z
SUMMARY:Notary Day
DESCRIPTION:Lieve (notariële) Sirii\, Vrijdag 24 april 2026 zullen we af
 reizen naar Amsterdam voor de Notary Day. Tijdens deze dag nemen we jullie
  mee in de praktijk van het notariaat en bezoeken we twee topkantoren. De 
 Notary Day zal in de ochtend beginnen bij Simmons &amp\; Simmons. In de 
 middag verplaatsen wij ons naar NautaDutilh\, waar we de dag om 18:00 uu
 r afsluiten met een gezellige borrel.  Deze Notary Day is verplicht vo
 or alle notariële studenten. Ben je verhinderd wegens een gegronde reden?
  Laat dit dan tijdig weten aan je tutor en zet secretariaat@ulcsirius.n
 l in de cc. Meer informatie volgt binnenkort\, maar zet vrijdag 24 april 
 alvast met notariële precisie in je agenda.  Liefs\,  Wolf 
DTSTART:20260424T070000Z
DTEND:20260424T160000Z
END:VEVENT
BEGIN:VTIMEZONE
TZID:UTC
BEGIN:STANDARD
DTSTART:20260424T070000
TZNAME:UTC
TZOFFSETTO:+0000
TZOFFSETFROM:+0000
END:STANDARD
END:VTIMEZONE
END:VCALENDAR
