BEGIN:VCALENDAR
PRODID:-//eluceo/ical//2.0/EN
VERSION:2.0
CALSCALE:GREGORIAN
BEGIN:VEVENT
UID:event-639
DTSTAMP:20260420T101807Z
SUMMARY:Accie Valentijnsactie
DESCRIPTION:Allerliefste Sirii\, 14 februari is het weer zover: de dag van 
 de liefde! Valentijnsdag komt dichterbij en traditiegetrouw betekent dit d
 at jij de Accie Valentijnskaartjes kan laten opsturen naar jouw mede-Sirii
 . Dus wil jij je vrienden vertellen dat je van ze houdt? Of heb je stiekem
  een crush op iemand uit je werkgroep? Klik dan op deze link om een kaart
 je te versturen! Je hebt tot 8 februari 23:59 de tijd. De kaartjes zullen 
 vanaf 14 februari op te halen zijn in de BK. Let op: maximaal drie kaartje
 s per persoon en maximaal 75 woorden per kaartje. Kaartjes zijn beschikbaa
 r zolang de voorraad strekt! Xoxo\, De Accie
DTSTART:20250123T190000Z
DTEND:20250208T225900Z
END:VEVENT
BEGIN:VTIMEZONE
TZID:UTC
BEGIN:STANDARD
DTSTART:20250123T190000
TZNAME:UTC
TZOFFSETTO:+0000
TZOFFSETFROM:+0000
END:STANDARD
END:VTIMEZONE
END:VCALENDAR
