BEGIN:VCALENDAR
PRODID:-//eluceo/ical//2.0/EN
VERSION:2.0
CALSCALE:GREGORIAN
BEGIN:VEVENT
UID:event-599
DTSTAMP:20260420T054408Z
SUMMARY:Mini Notary Days
DESCRIPTION:Lieve Sirii\, De tweedejaars zullen binnenkort hun trajectkeuze
  moeten maken. Aangezien wij weten dat dit een lastige keuze kan zijn en e
 r over het notariële recht in het eerste studiejaar weinig bekend is\, za
 l er voor 10 Sirii plek zijn om op maandag 7 oktober in de ochtend een bez
 oek te brengen aan het notariaat van Stibbe en op dinsdag 8 oktober in de 
 middag aan het notariaat van Van Doorne. Tijdens deze notariële kantoorbe
 zoeken zullen notarissen op laagdrempelige wijze vertellen over hun werkza
 amheden bij een groot kantoor en is er voor de studenten de mogelijkheid a
 lle vragen te stellen over het leven als kandidaat-notaris en notaris. Het
  kantoorbezoek bij Stibbe op maandag 7 oktober zal van start gaan om 09:30
  en we zullen deze ochtend afsluiten met een lekkere lunch. Om 13:30 is di
 t bezoek afgelopen. De volgende middag (dinsdag 8 oktober) brengen we vana
 f 14:00 een bezoek aan Van Doorne. Deze middag sluiten we af met een uitge
 breide borrel\, die om 18:00 zal eindigen. De aanmeldingen voor dit evenem
 ent openen op maandag 23 september om 12:00 en sluiten op zondag 29 septem
 ber om 23:59. Let op: indien je je aanmeldt\, dien je bij beide kantoorbez
 oeken aanwezig te zijn. Dit is een mooie manier om het notariaat te leren 
 kennen voor de trajectkeuze\, dus meld je vooral aan! Liefs\, Emma
DTSTART:20241007T073000Z
DTEND:20241008T160000Z
END:VEVENT
BEGIN:VTIMEZONE
TZID:UTC
BEGIN:STANDARD
DTSTART:20241007T073000
TZNAME:UTC
TZOFFSETTO:+0000
TZOFFSETFROM:+0000
END:STANDARD
END:VTIMEZONE
END:VCALENDAR
