BEGIN:VCALENDAR
PRODID:-//eluceo/ical//2.0/EN
VERSION:2.0
CALSCALE:GREGORIAN
BEGIN:VEVENT
UID:event-375
DTSTAMP:20260420T073548Z
SUMMARY:Module Recht en Oorlog
DESCRIPTION:In Nederland is lange tijd geen gewapend conflict meer geweest\
 , maar dat geldt niet voor de rest van de wereld. In andere landen komen d
 agelijks door gewapende conflicten vele mensenlevens in gevaar. Ook ons la
 nd speelt soms een rol in deze oorlogen. Wat is de rol van het recht in he
 t reguleren van een conflict? Hoe belangrijk is de rol van de jurist\, en 
 welke rol heeft de politiek? Wat blijft er in de praktijk nou over van het
  oorlogsrecht? In deze Module maken deelnemers kennis met het bijzondere r
 echtsgebied van het oorlogsrecht. Verschillende interessante sprekers zull
 en vertellen over hun vakgebieden en over hun ervaring met het oorlogsrech
 t. Dit onderwerp komt in de rest van de bachelor nagenoeg niet aan bod\, d
 us deze Module is dé kans om er meer over te leren.    De bijeenkomsten
  zullen (indien mogelijk) fysiek plaatsvinden op de Universiteit Utrecht (
 lokaal volgt later)\, op de volgende data:  Dinsdag 11 januari 2022 (19.1
 5-21.00) Hoogleraar militair recht Marten Zwanenburg zal een crashcourse o
 orlogsrecht verzorgen\, waarbij de deelnemers kennismaken met de kernbegri
 ppen van het oorlogsrecht. Dinsdag 18 januari 2022 (19.15-21.00) Het Rode
  Kruis komt een lezing geven over het humanitaire oorlogsrecht en hun rol
  in conflicten. Daarnaast nemen ze enkele casussen mee waar de studenten 
 in groepjes mee aan de slag kunnen voor toepassing. Dinsdag 1 februari 202
 2 (19.15-21.00) Fons Orie\, rechter in het Joegoslavië-tribunaal\, komt s
 preken over hoe het oorlogsrecht er in de rechtszaal uitziet\, onder ander
 e aan de hand van zijn eigen ervaring.  Dinsdag 15 februari 2022 (19.15-2
 1.00) Albert van Hal\, specialist op het gebied van instabiele landen\, ko
 mt spreken over onder meer de militaire interventie in Afghanistan en de t
 erugkeer van de Taliban. Maandag 21 februari 2022 (19.15-21.00) In deze bi
 jeenkomst wordt duidelijk wat in de praktijk nou overblijft van het oorlog
 srecht. We gaan met KMA-docent Robert Jan van Oostendorp in gesprek over i
 nterviews met veteranen en anderen die bij het gewapende conflict in Armen
 ië betrokken waren.  Dinsdag 1 maart 2022 (19.15-21.00) Journalist Arnol
 d Karskens komt deze bijeenkomst spreken over zijn werk als oorlogsjournal
 ist.   Als er nieuwe informatie beschikbaar is zal dit hier bijgewerkt wo
 rden. De inschrijvingen voor de Module ‘Recht en Oorlog’ gaan maandag 
 27 december 12:00 open en sluiten maandag 10 januari 23:59. Er is maar ple
 k voor 25 studenten\, dus wees er snel bij. Je hoeft geen kennis vooraf te
  hebben\, alleen interesse. Wij hopen jullie bij de Module te zien!   Lie
 fs\, Elze van Buuren\, Keetje Abrahams\, Felice Cicero en Kees Struijk.  
   Let op: de Modulebijeenkomst van maandag 21 februari valt tegelijkertij
 d met het simulatiespel voor de derdejaars. Het simulatiespel is verplicht
 . Je kunt nog steeds deze Module volgen en je certificaat behalen als je d
 e andere vijf bijeenkomsten aanwezig bent. Houd hier dus rekening mee. Het
  is verplicht om elk jaar minstens één module te volgen. De vereisten om
  je certificaat kun je elders op deze site vinden. 
DTSTART:20220110T230000Z
DTEND:20220228T230000Z
END:VEVENT
BEGIN:VTIMEZONE
TZID:UTC
BEGIN:STANDARD
DTSTART:20220110T230000
TZNAME:UTC
TZOFFSETTO:+0000
TZOFFSETFROM:+0000
END:STANDARD
END:VTIMEZONE
END:VCALENDAR
