BEGIN:VCALENDAR
PRODID:-//eluceo/ical//2.0/EN
VERSION:2.0
CALSCALE:GREGORIAN
BEGIN:VEVENT
UID:event-329
DTSTAMP:20260421T153259Z
SUMMARY:Algemene Ledenvergadering: digitaal
DESCRIPTION:Lieve Sirii\, Graag nodigen wij jullie uit voor de Algemene Led
 envergadering (ALV) op woensdag 9 juni 2021. De ALV vindt plaats in de Sin
 gelkerk (Wittevrouwensingel 28\, 3581 GC Utrecht) en begint om 19:00 uur. 
 Door de maatregelen rondom COVID-19 Door de huidige maatregelen omtrent CO
 VID-19 zal de ALV fysiek toegankelijk zijn voor 23 Sirii en zal er worden 
 gewerkt met drie verschillende aankomsttijden. Voor de overige Sirii zal d
 e ALV live te volgen zijn via MS Teams\, waar de mogelijkheid bestaat to
 t het stellen van vragen en het uitbrengen van een stem.  Let op: De ALV 
 is verplicht voor eerstejaars! Daarnaast moeten er per commissie twee lede
 n aanwezig zijn. Je kunt slechts voor één commissie tegelijk aanwezig zi
 jn. Verder kunnen eerstejaars zich alleen met een geldige reden afmelden b
 ij de tutor en bij het secretariaat door een mail te sturen naar de tutor 
 en secretariaat@ulcsirius.nl. Aanwezigheid wordt bijgehouden conform het a
 an- en afmeld beleid. Je kunt je aanmelden bij het evenement op de site zo
 dat de ALV in je portfolio voor het ULC komt te staan en je de link naar d
 e livestream kan ontvangen. Voor meer informatie over de agenda\, de onlin
 e-aanwezigheid en het stemmen het verwijzen wij jullie graag door naar de 
 uitnodigingsmail. Wij zien jullie allemaal graag op woensdag 9 juni! Liefs
 \, Bestuur XVI
DTSTART:20210609T170000Z
DTEND:20210609T190000Z
LOCATION:MS Teams
END:VEVENT
BEGIN:VTIMEZONE
TZID:UTC
BEGIN:STANDARD
DTSTART:20210609T170000
TZNAME:UTC
TZOFFSETTO:+0000
TZOFFSETFROM:+0000
END:STANDARD
END:VTIMEZONE
END:VCALENDAR
