BEGIN:VCALENDAR
PRODID:-//eluceo/ical//2.0/EN
VERSION:2.0
CALSCALE:GREGORIAN
BEGIN:VEVENT
UID:event-276
DTSTAMP:20260423T081011Z
SUMMARY:Avondcollege Dick Swaab
DESCRIPTION:Lieve Sirii\,De IAC heeft voor jullie binnenkort weer een ontze
 ttend leuk avondcollege op het programma staan! Op 25 november zal Dick Sw
 aab ons komen vertellen over psychische stoornissen die resulteren in crim
 ineel gedrag. Dick Swaab is een Nederlandse arts en neurobioloog\, en hij 
 staat bekend om zijn hersenonderzoek. Op wetenschappelijk gebied is Swaab 
 een van de belangrijkste en internationaal bekende Nederlandse onderzoeker
 s. Ook vervult Dick Swaab regelmatig de rol van deskundige in strafzaken. 
 Het avondcollege is deze keer weer digitaal en zal live te zien zijn op MS
  teams op 25 november om 19:15. Je krijgt een link om het college te bekij
 ken via de mail nadat je je hebt aangemeld. De aanmeldingen gaan open op m
 aandag 16 november om 12:00 en sluiten op woensdag 25 november om 12:00. H
 et belooft een superinteressant avondcollege te worden dus meld je op tijd
  aan! Liefs\, De IAC
DTSTART:20201125T181500Z
DTEND:20201125T200000Z
END:VEVENT
BEGIN:VTIMEZONE
TZID:UTC
BEGIN:STANDARD
DTSTART:20201125T181500
TZNAME:UTC
TZOFFSETTO:+0000
TZOFFSETFROM:+0000
END:STANDARD
END:VTIMEZONE
END:VCALENDAR
