BEGIN:VCALENDAR
PRODID:-//eluceo/ical//2.0/EN
VERSION:2.0
CALSCALE:GREGORIAN
BEGIN:VEVENT
UID:event-270
DTSTAMP:20260425T230029Z
SUMMARY:Commissiebedank evenement (alleen voor commissieleden)
DESCRIPTION:Lieve Sirii\,De laatste weken van ons bestuursjaar zijn helaas 
 aangebroken. Voordat Bestuur XVI het stokje overneemt\, willen we echter g
 raag nog een keer stilstaan bij alle commissies en commissieleden die ons 
 dit jaar hebben geholpen er het beste van te maken. Al het hele jaar lang 
 zijn wij enorm blij met de inzet van alle Sirii en diep onder de indruk va
 n de creatieve oplossingen die door de commissies worden bedacht. Ondanks 
 vele tegenslagen hebben jullie ervoor gezorgd dat Sirius bleef draaien en 
 wij willen jullie hier graag enorm voor bedanken! Normaal gesproken zouden
  wij de commissies bedanken tijdens het jaarlijkse Commissiebedankdiner. H
 elaas is het niet mogelijk dit diner op de gebruikelijke wijze te organise
 ren. Om toch vorm te geven aan onze dankbaarheid\, willen wij alle commiss
 ieleden graag uitnodigen voor een digitale Commissiebedankborrel. Op woens
 dag 4 november vanaf 20:00 zullen wij in een digitale omgeving bijeenkomen
  om gezamenlijk het glas te heffen. Je kan je vandaag vanaf 17:00 uur insc
 hrijven op de site voor de borrel. Bij je inschrijving wordt gevraagd naar
  je adres en je drankvoorkeur. Jullie zullen van ons een borrelbox ontvang
 en voor de borrel (welke waarschijnlijk op dinsdag wordt bezorgd). De insc
 hrijvingen sluiten al aanstaande vrijdag om 12:00\, dus wees er snel bij! 
 Helaas is het niet mogelijk om de attenties buiten de regio Utrecht te bez
 orgen. Als je niet in Utrecht woont\, ben je uiteraard alsnog van harte we
 lkom op de borrel\, maar zal het dus niet lukken om de attentie thuis te b
 ezorgen. Indien je van plan bent met een vriend of vriendin in Utrecht af 
 te spreken voor de borrel (conform de maatregelen uiteraard!)\, is het wel
  mogelijk om twee attenties op hetzelfde adres te bezorgen. Geef in dat ge
 val het adres op\, waar je tijdens de borrel zal verblijven. Wij zien uit 
 naar jullie aanmeldingen en hopen jullie volgende week woensdag te zien! L
 iefs\, Bestuur XV
DTSTART:20201104T190000Z
DTEND:20201104T200000Z
END:VEVENT
BEGIN:VTIMEZONE
TZID:UTC
BEGIN:STANDARD
DTSTART:20201104T190000
TZNAME:UTC
TZOFFSETTO:+0000
TZOFFSETFROM:+0000
END:STANDARD
END:VTIMEZONE
END:VCALENDAR
